BEGIN:VCALENDAR
VERSION:2.0
PRODID:-//pretix//Pretix_Chaostreff_Potsdam//
BEGIN:VTIMEZONE
TZID:Europe/Berlin
BEGIN:STANDARD
DTSTART:20001029T040000
RRULE:FREQ=YEARLY;BYDAY=-1SU;BYMONTH=10
TZNAME:CET
TZOFFSETFROM:+0200
TZOFFSETTO:+0100
END:STANDARD
BEGIN:DAYLIGHT
DTSTART:20000326T030000
RRULE:FREQ=YEARLY;BYDAY=-1SU;BYMONTH=3
TZNAME:CEST
TZOFFSETFROM:+0100
TZOFFSETTO:+0200
END:DAYLIGHT
END:VTIMEZONE
BEGIN:VEVENT
UID:pretix-cccp-geekend-0@tickets.ccc-p.org
DTSTART;TZID=Europe/Berlin:20231117T170000
DTEND;TZID=Europe/Berlin:20231117T180000
DESCRIPTION:Tickets: https://tickets.ccc-p.org/geekend/\nVeranstalter: Chao
 streff Potsdam
DTSTAMP:20260422T023840Z
LOCATION:freiLand Haus 5\, Friedrich-Engels-Str. 22\, 14473 Potsdam
SUMMARY:Geekend #1
END:VEVENT
END:VCALENDAR
